BEGIN:VCALENDAR
VERSION:2.0
PRODID:-//Mari Kodama - ECPv6.14.2//NONSGML v1.0//EN
CALSCALE:GREGORIAN
METHOD:PUBLISH
X-WR-CALNAME:Mari Kodama
X-ORIGINAL-URL:https://www.marikodama.com
X-WR-CALDESC:Events for Mari Kodama
REFRESH-INTERVAL;VALUE=DURATION:PT1H
X-Robots-Tag:noindex
X-PUBLISHED-TTL:PT1H
BEGIN:VTIMEZONE
TZID:UTC
BEGIN:STANDARD
TZOFFSETFROM:+0000
TZOFFSETTO:+0000
TZNAME:UTC
DTSTART:20240101T000000
END:STANDARD
END:VTIMEZONE
BEGIN:VEVENT
DTSTART;TZID=UTC:20241003T200000
DTEND;TZID=UTC:20241003T220000
DTSTAMP:20260419T134806
CREATED:20240726T091401Z
LAST-MODIFIED:20240726T091401Z
UID:2204-1727985600-1727992800@www.marikodama.com
SUMMARY:Liedstadt Hamburg – Opening Concert
DESCRIPTION:Julian Prégardien tenor \nMari Kodama piano \n 
URL:https://www.marikodama.com/performance/liedstadt-hamburg-opening-concert/
LOCATION:Rolf-Liebermann-Studio\, Oberstraße 120\, Hamburg\, 20149\, Germany
CATEGORIES:Concert
END:VEVENT
BEGIN:VEVENT
DTSTART;TZID=UTC:20241010T200000
DTEND;TZID=UTC:20241010T220000
DTSTAMP:20260419T134806
CREATED:20240726T093605Z
LAST-MODIFIED:20240726T093605Z
UID:2207-1728590400-1728597600@www.marikodama.com
SUMMARY:Le Cercle de l'Harmonie
DESCRIPTION:LE CERCLE DE L’HARMONIE \nJérémie Rhorer\, conductor \nBeethoven Piano Concerto No. 1
URL:https://www.marikodama.com/performance/le-cercle-de-lharmonie/
LOCATION:Les Invalides\, 129 rue de Grenelle\, Paris\, 75007\, France
CATEGORIES:Concert
END:VEVENT
BEGIN:VEVENT
DTSTART;VALUE=DATE:20241014
DTEND;VALUE=DATE:20241022
DTSTAMP:20260419T134806
CREATED:20240726T123208Z
LAST-MODIFIED:20240726T123208Z
UID:2222-1728864000-1729555199@www.marikodama.com
SUMMARY:Sorel Tracy International Piano Competition
DESCRIPTION:Jury of Sorel Tracy International Piano Competition.
URL:https://www.marikodama.com/performance/sorel-tracy-international-piano-competition/
CATEGORIES:Jury
END:VEVENT
END:VCALENDAR