BEGIN:VCALENDAR
VERSION:2.0
PRODID:-//Mari Kodama - ECPv6.14.2//NONSGML v1.0//EN
CALSCALE:GREGORIAN
METHOD:PUBLISH
X-WR-CALNAME:Mari Kodama
X-ORIGINAL-URL:https://www.marikodama.com
X-WR-CALDESC:Events for Mari Kodama
REFRESH-INTERVAL;VALUE=DURATION:PT1H
X-Robots-Tag:noindex
X-PUBLISHED-TTL:PT1H
BEGIN:VTIMEZONE
TZID:UTC
BEGIN:STANDARD
TZOFFSETFROM:+0000
TZOFFSETTO:+0000
TZNAME:UTC
DTSTART:20230101T000000
END:STANDARD
END:VTIMEZONE
BEGIN:VEVENT
DTSTART;TZID=UTC:20231205T200000
DTEND;TZID=UTC:20231205T220000
DTSTAMP:20260420T064759
CREATED:20230821T133926Z
LAST-MODIFIED:20230821T133926Z
UID:2114-1701806400-1701813600@www.marikodama.com
SUMMARY:Orchestra Haydn di Bolzano e Trento
DESCRIPTION:GYÖRGY LIGETI: Concerto for Piano \nInterval \nFRANZ JOSEPH HAYDN: Sonata for Piano in C major\, Hob XVI: 48 \nGYÖRGY LIGETI: Musica Ricercata\, XI. (Omaggio a Girolamo Frescobaldi) Andante misurato e tranquillo \nFRANZ JOSEPH HAYDN: Symphony No. 101 in nD major\, Op. 95 No. 2 (The Clock) (London/Salomon No. 11)
URL:https://www.marikodama.com/performance/orchestra-haydn-di-bolzano-e-trento/
LOCATION:Auditorium Joseph Haydn – Bolzano\, Via Hermann von Gilm\, 1/A\, Bolzano\, 39100\, Italy
CATEGORIES:Concert
END:VEVENT
BEGIN:VEVENT
DTSTART;TZID=UTC:20231206T203000
DTEND;TZID=UTC:20231206T223000
DTSTAMP:20260420T064759
CREATED:20230821T135218Z
LAST-MODIFIED:20230821T135249Z
UID:2116-1701894600-1701901800@www.marikodama.com
SUMMARY:Orchestra Haydn di Bolzano e Trento
DESCRIPTION:GYÖRGY LIGETI: Concerto for Piano \nInterval \nFRANZ JOSEPH HAYDN: Sonata for Piano in C major\, Hob XVI: 48 \nGYÖRGY LIGETI: Musica Ricercata\, XI. (Omaggio a Girolamo Frescobaldi) Andante misurato e tranquillo \nFRANZ JOSEPH HAYDN: Symphony No. 101 in nD major\, Op. 95 No. 2 (The Clock) (London/Salomon No. 11)
URL:https://www.marikodama.com/performance/orchestra-haydn-di-bolzano-e-trento-2/
LOCATION:Auditorium Trento\, Via Santa Croce 67\, Trento\, 38122\, Italy
CATEGORIES:Concert
END:VEVENT
BEGIN:VEVENT
DTSTART;TZID=UTC:20231210T143000
DTEND;TZID=UTC:20231210T163000
DTSTAMP:20260420T064759
CREATED:20230821T140048Z
LAST-MODIFIED:20230821T140130Z
UID:2122-1702218600-1702225800@www.marikodama.com
SUMMARY:Piano Recital with Momo Kodama
DESCRIPTION:Duo Programme with Momo Kodama \n\n\n\nTCHAIKOVSKY: Swan Lake\nTCHAIKOVSKY: The Sleeping Beauty Interval\nTCHAIKOVSKY: The Nutcracker
URL:https://www.marikodama.com/performance/2122/
LOCATION:Salle Bourgie – Montreal\, 1339 Rue Sherbrooke O\, Montreal\, QC H3G 1G2\, Canada
CATEGORIES:Recital
END:VEVENT
END:VCALENDAR