BEGIN:VCALENDAR
VERSION:2.0
PRODID:-//Mari Kodama - ECPv6.14.2//NONSGML v1.0//EN
CALSCALE:GREGORIAN
METHOD:PUBLISH
X-WR-CALNAME:Mari Kodama
X-ORIGINAL-URL:https://www.marikodama.com
X-WR-CALDESC:Events for Mari Kodama
REFRESH-INTERVAL;VALUE=DURATION:PT1H
X-Robots-Tag:noindex
X-PUBLISHED-TTL:PT1H
BEGIN:VTIMEZONE
TZID:UTC
BEGIN:STANDARD
TZOFFSETFROM:+0000
TZOFFSETTO:+0000
TZNAME:UTC
DTSTART:20220101T000000
END:STANDARD
END:VTIMEZONE
BEGIN:VEVENT
DTSTART;TZID=UTC:20220812T200000
DTEND;TZID=UTC:20220812T200000
DTSTAMP:20260423T085902
CREATED:20220317T203513Z
LAST-MODIFIED:20220317T203551Z
UID:1852-1660334400-1660334400@www.marikodama.com
SUMMARY:2022 Taipei Music Academy & Festival Orchestra Tour: Taichung National Theater
DESCRIPTION:Program:\n\n\n\n\n\n\n\n\nLudwig van Beethoven: Triple Concerto in C major\, Op. 56 \nArtists:\nKent Nagano – Conductor\nMari Kodama – Piano\nCho-Liang Lin – Violin\nCarter Brey – Cello\nTMAF Orchestra \nOther dates:\nFri\, August 12\, Taichung National Theater\nSat\, August 13\, Weiwuying Concert Hall\nSun\, August 14\, National Concert Hall
URL:https://www.marikodama.com/performance/2022-taipei-music-academy-festival-orchestra-tour/
LOCATION:Taichung National Theater\, Taichung
CATEGORIES:Concert
END:VEVENT
BEGIN:VEVENT
DTSTART;TZID=UTC:20220813T200000
DTEND;TZID=UTC:20220813T200000
DTSTAMP:20260423T085902
CREATED:20220317T203842Z
LAST-MODIFIED:20220317T203842Z
UID:1855-1660420800-1660420800@www.marikodama.com
SUMMARY:2022 TMAF Orchestra Tour: Weiwuying Concert Hall
DESCRIPTION:Program:\n\n\n\n\n\n\n\n\nLudwig van Beethoven: Triple Concerto in C major\, Op. 56 \nArtists:\nKent Nagano – Conductor\nMari Kodama – Piano\nCho-Liang Lin – Violin\nCarter Brey – Cello\nTMAF Orchestra \nOther dates:\nFri\, August 12\, Taichung National Theater\nSat\, August 13\, Weiwuying Concert Hall\nSun\, August 14\, National Concert Hall
URL:https://www.marikodama.com/performance/2022-tmaf-orchestra-tour-weiwuying-concert-hall/
LOCATION:Weiwuying Concert Hall
CATEGORIES:Concert
END:VEVENT
BEGIN:VEVENT
DTSTART;TZID=UTC:20220814T200000
DTEND;TZID=UTC:20220814T200000
DTSTAMP:20260423T085902
CREATED:20220317T204852Z
LAST-MODIFIED:20220317T204852Z
UID:1859-1660507200-1660507200@www.marikodama.com
SUMMARY:2022 TMAF Orchestra Tour: National Concert Hall
DESCRIPTION:Program:\n\n\n\n\n\n\n\n\nLudwig van Beethoven: Triple Concerto in C major\, Op. 56 \nArtists:\nKent Nagano – Conductor\nMari Kodama – Piano\nCho-Liang Lin – Violin\nCarter Brey – Cello\nTMAF Orchestra \nOther dates:\nFri\, August 12\, Taichung National Theater\nSat\, August 13\, Weiwuying Concert Hall\nSun\, August 14\, National Concert Hall
URL:https://www.marikodama.com/performance/2022-tmaf-orchestra-tour-national-concert-hall/
LOCATION:National Concert Hall Taipei\, No. 21-1\, Zhongshan S Rd\, Taipei\, Zhongzheng District\, Taiwan
CATEGORIES:Concert
END:VEVENT
END:VCALENDAR