BEGIN:VCALENDAR
VERSION:2.0
PRODID:-//Mari Kodama - ECPv6.14.2//NONSGML v1.0//EN
CALSCALE:GREGORIAN
METHOD:PUBLISH
X-WR-CALNAME:Mari Kodama
X-ORIGINAL-URL:https://www.marikodama.com
X-WR-CALDESC:Events for Mari Kodama
REFRESH-INTERVAL;VALUE=DURATION:PT1H
X-Robots-Tag:noindex
X-PUBLISHED-TTL:PT1H
BEGIN:VTIMEZONE
TZID:UTC
BEGIN:STANDARD
TZOFFSETFROM:+0000
TZOFFSETTO:+0000
TZNAME:UTC
DTSTART:20220101T000000
END:STANDARD
END:VTIMEZONE
BEGIN:VEVENT
DTSTART;TZID=UTC:20220409T170000
DTEND;TZID=UTC:20220409T180000
DTSTAMP:20260423T173648
CREATED:20211030T101648Z
LAST-MODIFIED:20220317T201303Z
UID:1795-1649523600-1649527200@www.marikodama.com
SUMMARY:With Markus Hinterhäuser at Schloss Elmau
DESCRIPTION:Program:\nMessiaen: Visions de l’Amen\nBach\nKurtág \nArtists:\nMarkus Hinterhäuser – Piano\nMari Kodama – Piano
URL:https://www.marikodama.com/performance/with-markus-hinterhauser-at-schloss-elmau/
LOCATION:Schloss Elmau\, Schloss Elmau\, Elmau\, 82493\, Germany
CATEGORIES:Recital
END:VEVENT
BEGIN:VEVENT
DTSTART;TZID=UTC:20220423T140000
DTEND;TZID=UTC:20220423T170000
DTSTAMP:20260423T173648
CREATED:20211030T100957Z
LAST-MODIFIED:20220317T201115Z
UID:1792-1650722400-1650733200@www.marikodama.com
SUMMARY:Henze Piano Concerto No. 1 with Kanagawa Philharmonic Orchestra
DESCRIPTION:Kanagawa Philharmonic Orchestra\, Ryusuke Numajiri – Conductor \nProgram: \nHenze: Piano Concerto No.1\nBrahms: Symphony No.1 in C minor\, Op 68
URL:https://www.marikodama.com/performance/henze-piano-concerto-no-1-with-kanagawa-philharmonic-orchestra/
LOCATION:Kanagawa Kenmin Hall\, 3-1 Yamashita-cho\, Naka-ku\, Yokohama-shi\, Kanagawa\, 231-0023\, Japan
CATEGORIES:Concert
END:VEVENT
END:VCALENDAR