BEGIN:VCALENDAR
VERSION:2.0
PRODID:-//Mari Kodama - ECPv6.14.2//NONSGML v1.0//EN
CALSCALE:GREGORIAN
METHOD:PUBLISH
X-ORIGINAL-URL:https://www.marikodama.com
X-WR-CALDESC:Events for Mari Kodama
REFRESH-INTERVAL;VALUE=DURATION:PT1H
X-Robots-Tag:noindex
X-PUBLISHED-TTL:PT1H
BEGIN:VTIMEZONE
TZID:Asia/Tokyo
BEGIN:STANDARD
TZOFFSETFROM:+0900
TZOFFSETTO:+0900
TZNAME:JST
DTSTART:20210101T000000
END:STANDARD
END:VTIMEZONE
BEGIN:VTIMEZONE
TZID:UTC
BEGIN:STANDARD
TZOFFSETFROM:+0000
TZOFFSETTO:+0000
TZNAME:UTC
DTSTART:20210101T000000
END:STANDARD
END:VTIMEZONE
BEGIN:VEVENT
DTSTART;TZID=Asia/Tokyo:20211106T140000
DTEND;TZID=Asia/Tokyo:20211106T170000
DTSTAMP:20260424T001929
CREATED:20210711T153423Z
LAST-MODIFIED:20211028T132543Z
UID:1724-1636207200-1636218000@www.marikodama.com
SUMMARY:Beethoven's Piano Concerto No. 2 with Tokyo Symphony Orchestra
DESCRIPTION:The Masterpiece Classics No.171 \nProgramme\nWolfgang Amadeus Mozart\nMagic flute overture \nLudwig van Beethoven\nPiano Concerto No.2 B-flat major op.19 \nJohannes Brahms\nSymphony No.4 E minor op.98 \nArtists\nTokyo Symphony Orchestra\nKrzysztof Urbański – conductor\nMari Kodama – piano
URL:https://www.marikodama.com/performance/beethovens-piano-concerto-no-4-with-tokyo-symphony-orchestra/
LOCATION:Muza Kawasaki Symphony Hall\, 1310 Omiya-cho Saiwai-ku\,\, Kawasaki-City\, 212-8557\, Japan
CATEGORIES:Concert
END:VEVENT
BEGIN:VEVENT
DTSTART;TZID=UTC:20211107T170000
DTEND;TZID=UTC:20211107T183000
DTSTAMP:20260424T001929
CREATED:20210711T154230Z
LAST-MODIFIED:20210711T155450Z
UID:1726-1636304400-1636309800@www.marikodama.com
SUMMARY:With Tokyo Symphony Orchestra in Niigata
DESCRIPTION:The 123rd Regular Concert in Niigata \nProgramme\nWolfgang Amadeus Mozart\nMagic flute overture \nLudwig van Beethoven\nPiano Concerto No.2 B-flat major op.19 \nJohannes Brahms\nSymphony No.4 E major op.95 \nArtists\nTokyo Symphony Orchestra\nKrzysztof Urbański – conductor\nMari Kodama – piano
URL:https://www.marikodama.com/performance/with-tokyo-symphony-orchestra-in-niigata/
LOCATION:Niigata City Performing Arts Center\, 3-2 Ichibanboridori-cho Chuo-ku\, Niigata City\, 951-8132\, Japan
CATEGORIES:Concert
END:VEVENT
END:VCALENDAR