BEGIN:VCALENDAR
VERSION:2.0
PRODID:-//Mari Kodama - ECPv6.14.2//NONSGML v1.0//EN
CALSCALE:GREGORIAN
METHOD:PUBLISH
X-ORIGINAL-URL:https://www.marikodama.com
X-WR-CALDESC:Events for Mari Kodama
REFRESH-INTERVAL;VALUE=DURATION:PT1H
X-Robots-Tag:noindex
X-PUBLISHED-TTL:PT1H
BEGIN:VTIMEZONE
TZID:UTC
BEGIN:STANDARD
TZOFFSETFROM:+0000
TZOFFSETTO:+0000
TZNAME:UTC
DTSTART:20210101T000000
END:STANDARD
END:VTIMEZONE
BEGIN:VEVENT
DTSTART;VALUE=DATE:20210502
DTEND;VALUE=DATE:20210503
DTSTAMP:20260424T091557
CREATED:20210430T213754Z
LAST-MODIFIED:20210430T213754Z
UID:1690-1619913600-1619999999@www.marikodama.com
SUMMARY:Biwako Festival Otsu Japan
DESCRIPTION:Beethoven recital
URL:https://www.marikodama.com/performance/biwako-festival-otsu-japan/
CATEGORIES:Recital
END:VEVENT
BEGIN:VEVENT
DTSTART;VALUE=DATE:20210504
DTEND;VALUE=DATE:20210508
DTSTAMP:20260424T091557
CREATED:20201201T164950Z
LAST-MODIFIED:20210430T213433Z
UID:1630-1620086400-1620431999@www.marikodama.com
SUMMARY:Ballet by John Neumeier I Beethoven-Project II - Filming
DESCRIPTION:Fascinated by the examination of Ludwig van Beethoven’s music in his “Beethoven Project”\, which premiered in 2018\, John Neumeier continues his preoccupation with various musical forms by this composer and combines them like a kaleidoscope to create a choreographic image of Beethoven’s oeuvre. “Beethoven Project II” replaces the announced world premiere of the production “Beethoven 9”\, which cannot be realized with live music under the currently valid hygiene protection regulations as not all required dancers\, vocal soloists\, choir and orchestra members are allowed to be on the stage at the same time. \nJohn Neumeier’s music selection combines piano and chamber music works by Ludwig van Beethoven from the context of the Heiligenstadt Testament with an excerpt from “Christ on the Mount of Olives” and the complete Seventh Symphony. \nMusic: Ludwig van Beethoven\nChoreography: John Neumeier\nSet: Heinrich Tröger\nCostumes: Albert Kriemler – A-K-R-I-S
URL:https://www.marikodama.com/performance/ballet-by-john-neumeier-i-beethoven-project-ii-5/
LOCATION:Hamburgische Staatsoper\, Dammtorstraße 28\, Hamburg\, 20354\, Germany
CATEGORIES:Other
END:VEVENT
BEGIN:VEVENT
DTSTART;TZID=UTC:20210527T183000
DTEND;TZID=UTC:20210527T200000
DTSTAMP:20260424T091557
CREATED:20210430T212900Z
LAST-MODIFIED:20210430T213113Z
UID:1683-1622140200-1622145600@www.marikodama.com
SUMMARY:Tokyo Symphony Orchestra Special Concert
DESCRIPTION:Tokyo Symphony Orchestra\, Jonathan Knott – conductor ; Mari Kodama – piano ; Gleb Nikitin – violin (concertmaster Tokyo Symphony Orchestra) \n 
URL:https://www.marikodama.com/performance/tokyo-symphony-orchestra-special-concert/
LOCATION:Muza Kawasaki Symphony Hall\, 1310 Omiya-cho Saiwai-ku\,\, Kawasaki-City\, 212-8557\, Japan
CATEGORIES:Concert
END:VEVENT
BEGIN:VEVENT
DTSTART;TZID=UTC:20210529T193000
DTEND;TZID=UTC:20210529T213000
DTSTAMP:20260424T091557
CREATED:20201123T171700Z
LAST-MODIFIED:20210430T211209Z
UID:1613-1622316600-1622323800@www.marikodama.com
SUMMARY:Ballet by John Neumeier I Beethoven-Project II
DESCRIPTION:Fascinated by the examination of Ludwig van Beethoven’s music in his “Beethoven Project”\, which premiered in 2018\, John Neumeier continues his preoccupation with various musical forms by this composer and combines them like a kaleidoscope to create a choreographic image of Beethoven’s oeuvre. “Beethoven Project II” replaces the announced world premiere of the production “Beethoven 9”\, which cannot be realized with live music under the currently valid hygiene protection regulations as not all required dancers\, vocal soloists\, choir and orchestra members are allowed to be on the stage at the same time. \nJohn Neumeier’s music selection combines piano and chamber music works by Ludwig van Beethoven from the context of the Heiligenstadt Testament with an excerpt from “Christ on the Mount of Olives” and the complete Seventh Symphony. \nMusic: Ludwig van Beethoven\nChoreography: John Neumeier\nSet: Heinrich Tröger\nCostumes: Albert Kriemler – A-K-R-I-S
URL:https://www.marikodama.com/performance/ballett-von-john-neumeier-i-beethoven-projekt-ii/
LOCATION:Hamburgische Staatsoper\, Dammtorstraße 28\, Hamburg\, 20354\, Germany
CATEGORIES:Concert
END:VEVENT
BEGIN:VEVENT
DTSTART;TZID=UTC:20210530T193000
DTEND;TZID=UTC:20210530T193000
DTSTAMP:20260424T091557
CREATED:20201201T165330Z
LAST-MODIFIED:20210430T211513Z
UID:1634-1622403000-1622403000@www.marikodama.com
SUMMARY:Ballet by John Neumeier I Beethoven-Project II
DESCRIPTION:Fascinated by the examination of Ludwig van Beethoven’s music in his “Beethoven Project”\, which premiered in 2018\, John Neumeier continues his preoccupation with various musical forms by this composer and combines them like a kaleidoscope to create a choreographic image of Beethoven’s oeuvre. “Beethoven Project II” replaces the announced world premiere of the production “Beethoven 9”\, which cannot be realized with live music under the currently valid hygiene protection regulations as not all required dancers\, vocal soloists\, choir and orchestra members are allowed to be on the stage at the same time. \nJohn Neumeier’s music selection combines piano and chamber music works by Ludwig van Beethoven from the context of the Heiligenstadt Testament with an excerpt from “Christ on the Mount of Olives” and the complete Seventh Symphony. \nMusic: Ludwig van Beethoven\nChoreography: John Neumeier\nSet: Heinrich Tröger\nCostumes: Albert Kriemler – A-K-R-I-S
URL:https://www.marikodama.com/performance/ballet-by-john-neumeier-i-beethoven-project-ii-7/
LOCATION:Hamburgische Staatsoper\, Dammtorstraße 28\, Hamburg\, 20354\, Germany
CATEGORIES:Concert
END:VEVENT
BEGIN:VEVENT
DTSTART;TZID=UTC:20210531T193000
DTEND;TZID=UTC:20210531T193000
DTSTAMP:20260424T091557
CREATED:20201201T165143Z
LAST-MODIFIED:20210430T211608Z
UID:1632-1622489400-1622489400@www.marikodama.com
SUMMARY:Ballet by John Neumeier I Beethoven-Project II
DESCRIPTION:Fascinated by the examination of Ludwig van Beethoven’s music in his “Beethoven Project”\, which premiered in 2018\, John Neumeier continues his preoccupation with various musical forms by this composer and combines them like a kaleidoscope to create a choreographic image of Beethoven’s oeuvre. “Beethoven Project II” replaces the announced world premiere of the production “Beethoven 9”\, which cannot be realized with live music under the currently valid hygiene protection regulations as not all required dancers\, vocal soloists\, choir and orchestra members are allowed to be on the stage at the same time. \nJohn Neumeier’s music selection combines piano and chamber music works by Ludwig van Beethoven from the context of the Heiligenstadt Testament with an excerpt from “Christ on the Mount of Olives” and the complete Seventh Symphony. \nMusic: Ludwig van Beethoven\nChoreography: John Neumeier\nSet: Heinrich Tröger\nCostumes: Albert Kriemler – A-K-R-I-S
URL:https://www.marikodama.com/performance/ballet-by-john-neumeier-i-beethoven-project-ii-6/
LOCATION:Hamburgische Staatsoper\, Dammtorstraße 28\, Hamburg\, 20354\, Germany
CATEGORIES:Concert
END:VEVENT
END:VCALENDAR