BEGIN:VCALENDAR
VERSION:2.0
PRODID:-//Mari Kodama - ECPv6.14.2//NONSGML v1.0//EN
CALSCALE:GREGORIAN
METHOD:PUBLISH
X-WR-CALNAME:Mari Kodama
X-ORIGINAL-URL:https://www.marikodama.com
X-WR-CALDESC:Events for Mari Kodama
REFRESH-INTERVAL;VALUE=DURATION:PT1H
X-Robots-Tag:noindex
X-PUBLISHED-TTL:PT1H
BEGIN:VTIMEZONE
TZID:UTC
BEGIN:STANDARD
TZOFFSETFROM:+0000
TZOFFSETTO:+0000
TZNAME:UTC
DTSTART:20200101T000000
END:STANDARD
END:VTIMEZONE
BEGIN:VEVENT
DTSTART;TZID=UTC:20201115T150000
DTEND;TZID=UTC:20201115T150000
DTSTAMP:20260424T175548
CREATED:20200609T105716Z
LAST-MODIFIED:20201102T164146Z
UID:1131-1605452400-1605452400@www.marikodama.com
SUMMARY:Grevenbroich\, Kloster Langwaden
DESCRIPTION:Program: \nBrahms: Variations on a theme by Robert Schumann op. 9 \nBrahms: Piano Sonata No 1 \n  \n 
URL:https://www.marikodama.com/performance/grevenbroich/
LOCATION:Grevenbroich\, Schloss Langwaden 1\, Grevenbroich\, 41516\, Germany
CATEGORIES:Recital
END:VEVENT
END:VCALENDAR