BEGIN:VCALENDAR
VERSION:2.0
PRODID:-//Mari Kodama - ECPv6.14.2//NONSGML v1.0//EN
CALSCALE:GREGORIAN
METHOD:PUBLISH
X-ORIGINAL-URL:https://www.marikodama.com
X-WR-CALDESC:Events for Mari Kodama
REFRESH-INTERVAL;VALUE=DURATION:PT1H
X-Robots-Tag:noindex
X-PUBLISHED-TTL:PT1H
BEGIN:VTIMEZONE
TZID:UTC
BEGIN:STANDARD
TZOFFSETFROM:+0000
TZOFFSETTO:+0000
TZNAME:UTC
DTSTART:20230101T000000
END:STANDARD
END:VTIMEZONE
BEGIN:VEVENT
DTSTART;TZID=UTC:20230910T143000
DTEND;TZID=UTC:20230910T163000
DTSTAMP:20260419T221040
CREATED:20230821T130557Z
LAST-MODIFIED:20230821T130612Z
UID:2091-1694356200-1694363400@www.marikodama.com
SUMMARY:National Taiwan Symphony Orchestra
DESCRIPTION:FELIX MENDELSSOHN: Concerto for Piano No. 1 in G minor\, Op. 25
URL:https://www.marikodama.com/performance/national-taiwan-symphony-orchestra-2/
LOCATION:Taichung National Theater\, Taichung
CATEGORIES:Concert
END:VEVENT
END:VCALENDAR