BEGIN:VCALENDAR
VERSION:2.0
PRODID:-//Mari Kodama - ECPv6.14.2//NONSGML v1.0//EN
CALSCALE:GREGORIAN
METHOD:PUBLISH
X-WR-CALNAME:Mari Kodama
X-ORIGINAL-URL:https://www.marikodama.com
X-WR-CALDESC:Events for Mari Kodama
REFRESH-INTERVAL;VALUE=DURATION:PT1H
X-Robots-Tag:noindex
X-PUBLISHED-TTL:PT1H
BEGIN:VTIMEZONE
TZID:UTC
BEGIN:STANDARD
TZOFFSETFROM:+0000
TZOFFSETTO:+0000
TZNAME:UTC
DTSTART:20230101T000000
END:STANDARD
END:VTIMEZONE
BEGIN:VEVENT
DTSTART;TZID=UTC:20230902T200000
DTEND;TZID=UTC:20230902T220000
DTSTAMP:20260419T220854
CREATED:20230821T125455Z
LAST-MODIFIED:20230821T125455Z
UID:2085-1693684800-1693692000@www.marikodama.com
SUMMARY:Philharmonisches Staatsorchester Hamburg
DESCRIPTION:LUDWIG VAN BEETHOVEN: Concerto for Piano No.2 in B-flat major\, Op. 19 \nConductor: Kent Nagano
URL:https://www.marikodama.com/performance/philharmonisches-staatsorchester-hamburg/
LOCATION:Hamburgische Staatsoper\, Dammtorstraße 28\, Hamburg\, 20354\, Germany
CATEGORIES:Concert
END:VEVENT
END:VCALENDAR