BEGIN:VCALENDAR
VERSION:2.0
PRODID:-//Mari Kodama - ECPv6.14.2//NONSGML v1.0//EN
CALSCALE:GREGORIAN
METHOD:PUBLISH
X-ORIGINAL-URL:https://www.marikodama.com
X-WR-CALDESC:Events for Mari Kodama
REFRESH-INTERVAL;VALUE=DURATION:PT1H
X-Robots-Tag:noindex
X-PUBLISHED-TTL:PT1H
BEGIN:VTIMEZONE
TZID:UTC
BEGIN:STANDARD
TZOFFSETFROM:+0000
TZOFFSETTO:+0000
TZNAME:UTC
DTSTART:20230101T000000
END:STANDARD
END:VTIMEZONE
BEGIN:VEVENT
DTSTART;TZID=UTC:20230618T160000
DTEND;TZID=UTC:20230618T190000
DTSTAMP:20260420T013137
CREATED:20230124T115024Z
LAST-MODIFIED:20230124T120350Z
UID:2032-1687104000-1687114800@www.marikodama.com
SUMMARY:Ballet by John Neumeier I Beethoven-Project II
DESCRIPTION:Fascinated by the examination of Ludwig van Beethoven’s music in his “Beethoven Project”\, which premiered in 2018\, John Neumeier continues his preoccupation with various musical forms by this composer and combines them like a kaleidoscope to create a choreographic image of Beethoven’s oeuvre. “Beethoven Project II” replaces the announced world premiere of the production “Beethoven 9”\, which cannot be realized with live music under the currently valid hygiene protection regulations as not all required dancers\, vocal soloists\, choir and orchestra members are allowed to be on the stage at the same time. \nJohn Neumeier’s music selection combines piano and chamber music works by Ludwig van Beethoven from the context of the Heiligenstadt Testament with an excerpt from “Christ on the Mount of Olives” and the complete Seventh Symphony. \nMusic: Ludwig van Beethoven\nChoreography: John Neumeier\nSet: Heinrich Tröger\nCostumes: Albert Kriemler – A-K-R-I-S
URL:https://www.marikodama.com/performance/ballet-by-john-neumeier-i-beethoven-project-ii-13/
CATEGORIES:Concert
END:VEVENT
END:VCALENDAR