BEGIN:VCALENDAR
VERSION:2.0
PRODID:-//Mari Kodama - ECPv6.14.2//NONSGML v1.0//EN
CALSCALE:GREGORIAN
METHOD:PUBLISH
X-ORIGINAL-URL:https://www.marikodama.com
X-WR-CALDESC:Events for Mari Kodama
REFRESH-INTERVAL;VALUE=DURATION:PT1H
X-Robots-Tag:noindex
X-PUBLISHED-TTL:PT1H
BEGIN:VTIMEZONE
TZID:UTC
BEGIN:STANDARD
TZOFFSETFROM:+0000
TZOFFSETTO:+0000
TZNAME:UTC
DTSTART:20240101T000000
END:STANDARD
END:VTIMEZONE
BEGIN:VEVENT
DTSTART;TZID=UTC:20240211T160000
DTEND;TZID=UTC:20240211T180000
DTSTAMP:20260420T045653
CREATED:20240123T142839Z
LAST-MODIFIED:20240123T142839Z
UID:2177-1707667200-1707674400@www.marikodama.com
SUMMARY:Lumière et Utopie - Licht und Utopie
DESCRIPTION:LUDWIG VAN BEETHOVEN: Sonata for Piano no. 4 in E-flat major\, Op. 7 \nRODOLPHE BRUNEAU-BOULMIER: Intrada \nLUDWIG VAN BEETHOVEN: Sonata for Piano no. 19 in G minor\, Op. 49 No. 1 \nInterval \nRODOLPHE BRUNEAU-BOULMIER: Passage \nLUDWIG VAN BEETHOVEN: Sonata for Piano no. 20 in G major\, Op. 49 No. 2 \nLUDWIG VAN BEETHOVEN: Sonata for Piano No. 21 in C major\, Op. 53 “Waldstein” \n 
URL:https://www.marikodama.com/performance/lumiere-et-utopie-licht-und-utopie/
LOCATION:Konzerthaus Blaibach\, Germany
CATEGORIES:Concert
END:VEVENT
END:VCALENDAR