BEGIN:VCALENDAR
VERSION:2.0
PRODID:-//Mari Kodama - ECPv6.14.2//NONSGML v1.0//EN
CALSCALE:GREGORIAN
METHOD:PUBLISH
X-ORIGINAL-URL:https://www.marikodama.com
X-WR-CALDESC:Events for Mari Kodama
REFRESH-INTERVAL;VALUE=DURATION:PT1H
X-Robots-Tag:noindex
X-PUBLISHED-TTL:PT1H
BEGIN:VTIMEZONE
TZID:UTC
BEGIN:STANDARD
TZOFFSETFROM:+0000
TZOFFSETTO:+0000
TZNAME:UTC
DTSTART:20230101T000000
END:STANDARD
END:VTIMEZONE
BEGIN:VEVENT
DTSTART;TZID=UTC:20231210T143000
DTEND;TZID=UTC:20231210T163000
DTSTAMP:20260420T083401
CREATED:20230821T140048Z
LAST-MODIFIED:20230821T140130Z
UID:2122-1702218600-1702225800@www.marikodama.com
SUMMARY:Piano Recital with Momo Kodama
DESCRIPTION:Duo Programme with Momo Kodama \n\n\n\nTCHAIKOVSKY: Swan Lake\nTCHAIKOVSKY: The Sleeping Beauty Interval\nTCHAIKOVSKY: The Nutcracker
URL:https://www.marikodama.com/performance/2122/
LOCATION:Salle Bourgie – Montreal\, 1339 Rue Sherbrooke O\, Montreal\, QC H3G 1G2\, Canada
CATEGORIES:Recital
END:VEVENT
END:VCALENDAR