BEGIN:VCALENDAR
VERSION:2.0
PRODID:-//Mari Kodama - ECPv6.14.2//NONSGML v1.0//EN
CALSCALE:GREGORIAN
METHOD:PUBLISH
X-WR-CALNAME:Mari Kodama
X-ORIGINAL-URL:https://www.marikodama.com
X-WR-CALDESC:Events for Mari Kodama
REFRESH-INTERVAL;VALUE=DURATION:PT1H
X-Robots-Tag:noindex
X-PUBLISHED-TTL:PT1H
BEGIN:VTIMEZONE
TZID:UTC
BEGIN:STANDARD
TZOFFSETFROM:+0000
TZOFFSETTO:+0000
TZNAME:UTC
DTSTART:20230101T000000
END:STANDARD
END:VTIMEZONE
BEGIN:VEVENT
DTSTART;TZID=UTC:20230930T200000
DTEND;TZID=UTC:20230930T210000
DTSTAMP:20260420T112722
CREATED:20230821T131223Z
LAST-MODIFIED:20230821T131445Z
UID:2095-1696104000-1696107600@www.marikodama.com
SUMMARY:Recital: Muse & Piano
DESCRIPTION:LUDWIG VAN BEETHOVEN: Sonata for Piano no. 30 in E Major\, Op. 109 \nLUDWIG VAN BEETHOVEN: Sonata for Piano no. 31 in A flat major\, Op. 110 \nLUDWIG VAN BEETHOVEN: Sonata for Piano no. 32 in C minor\, Op. 111
URL:https://www.marikodama.com/performance/recital-muse-piano/
LOCATION:Louvre-Lens\, 99 rue Paul Bert\, Lens\, 62300\, France
CATEGORIES:Recital
END:VEVENT
END:VCALENDAR