BEGIN:VCALENDAR
VERSION:2.0
PRODID:-//Mari Kodama - ECPv6.14.2//NONSGML v1.0//EN
CALSCALE:GREGORIAN
METHOD:PUBLISH
X-ORIGINAL-URL:https://www.marikodama.com
X-WR-CALDESC:Events for Mari Kodama
REFRESH-INTERVAL;VALUE=DURATION:PT1H
X-Robots-Tag:noindex
X-PUBLISHED-TTL:PT1H
BEGIN:VTIMEZONE
TZID:UTC
BEGIN:STANDARD
TZOFFSETFROM:+0000
TZOFFSETTO:+0000
TZNAME:UTC
DTSTART:20230101T000000
END:STANDARD
END:VTIMEZONE
BEGIN:VEVENT
DTSTART;TZID=UTC:20230107T200000
DTEND;TZID=UTC:20230107T220000
DTSTAMP:20260421T014519
CREATED:20230124T115806Z
LAST-MODIFIED:20230124T115806Z
UID:2036-1673121600-1673128800@www.marikodama.com
SUMMARY:Concert at Muziekgebouw aan 't IJ
DESCRIPTION:Duo recital with Momo Kodama \nPETER EÖTVÖS : Kosmos\nJOHANN SEBASTIAN BACH arr KURTÁG : Three Chorale Preludes for piano four hands\nWOLFGANG AMADEUS MOZART : Sonata for Two Pianos in D major\, K448\nREGER : Variations and Fugue on a Theme by Mozart\, Op. 132
URL:https://www.marikodama.com/performance/concert-at-muziekgebouw-aan-t-ij/
LOCATION:Muziekgebouw aan ‘t IJ\, Piet Heinkade 1\, Amsterdam\, 1019\, Netherlands
CATEGORIES:Recital
END:VEVENT
END:VCALENDAR