BEGIN:VCALENDAR
VERSION:2.0
PRODID:-//Mari Kodama - ECPv6.14.2//NONSGML v1.0//EN
CALSCALE:GREGORIAN
METHOD:PUBLISH
X-ORIGINAL-URL:https://www.marikodama.com
X-WR-CALDESC:Events for Mari Kodama
REFRESH-INTERVAL;VALUE=DURATION:PT1H
X-Robots-Tag:noindex
X-PUBLISHED-TTL:PT1H
BEGIN:VTIMEZONE
TZID:UTC
BEGIN:STANDARD
TZOFFSETFROM:+0000
TZOFFSETTO:+0000
TZNAME:UTC
DTSTART:20220101T000000
END:STANDARD
END:VTIMEZONE
BEGIN:VEVENT
DTSTART;VALUE=DATE:20220703
DTEND;VALUE=DATE:20220706
DTSTAMP:20260423T173017
CREATED:20211030T095757Z
LAST-MODIFIED:20220317T202055Z
UID:1787-1656806400-1657065599@www.marikodama.com
SUMMARY:Brahms Recording
DESCRIPTION:More information to be announced here shortly.
URL:https://www.marikodama.com/performance/brahms-recording-2/
CATEGORIES:Recording
END:VEVENT
END:VCALENDAR