BEGIN:VCALENDAR
VERSION:2.0
PRODID:-//Mari Kodama - ECPv6.14.2//NONSGML v1.0//EN
CALSCALE:GREGORIAN
METHOD:PUBLISH
X-ORIGINAL-URL:https://www.marikodama.com
X-WR-CALDESC:Events for Mari Kodama
REFRESH-INTERVAL;VALUE=DURATION:PT1H
X-Robots-Tag:noindex
X-PUBLISHED-TTL:PT1H
BEGIN:VTIMEZONE
TZID:UTC
BEGIN:STANDARD
TZOFFSETFROM:+0000
TZOFFSETTO:+0000
TZNAME:UTC
DTSTART:20210101T000000
END:STANDARD
END:VTIMEZONE
BEGIN:VEVENT
DTSTART;VALUE=DATE:20211018
DTEND;VALUE=DATE:20211022
DTSTAMP:20260424T032034
CREATED:20211030T095439Z
LAST-MODIFIED:20211030T095439Z
UID:1782-1634515200-1634860799@www.marikodama.com
SUMMARY:Judging the 16th International Beethoven Piano Competition Vienna
DESCRIPTION:The International Beethoven Piano Competition Vienna is Austria’s oldest international piano competition and ranks among the most renowned music competitions today. Founded more than 50 years ago\, it is hosted by the University of Music and Performing Arts Vienna. The artistic director is Jan Jiracek von Arnim.
URL:https://www.marikodama.com/performance/judging-the-16th-international-beethoven-piano-competition-vienna/
LOCATION:Musikverein Wien
CATEGORIES:Other
END:VEVENT
END:VCALENDAR