BEGIN:VCALENDAR
VERSION:2.0
PRODID:-//Mari Kodama - ECPv6.14.2//NONSGML v1.0//EN
CALSCALE:GREGORIAN
METHOD:PUBLISH
X-ORIGINAL-URL:https://www.marikodama.com
X-WR-CALDESC:Events for Mari Kodama
REFRESH-INTERVAL;VALUE=DURATION:PT1H
X-Robots-Tag:noindex
X-PUBLISHED-TTL:PT1H
BEGIN:VTIMEZONE
TZID:UTC
BEGIN:STANDARD
TZOFFSETFROM:+0000
TZOFFSETTO:+0000
TZNAME:UTC
DTSTART:20210101T000000
END:STANDARD
END:VTIMEZONE
BEGIN:VEVENT
DTSTART;VALUE=DATE:20211009
DTEND;VALUE=DATE:20211011
DTSTAMP:20260424T032104
CREATED:20200609T110728Z
LAST-MODIFIED:20210711T152554Z
UID:1138-1633737600-1633910399@www.marikodama.com
SUMMARY:Beethoven Sonatas Marathon
DESCRIPTION:32 Beethoven Sonatas Marathon Festival Beethoven: all 32 Sonatas in chronological order within 24h\n10-12 Pianists
URL:https://www.marikodama.com/performance/beethoven-sonatas-marathon/
LOCATION:San Francisco\, San Francisco\, United States
CATEGORIES:Recital
END:VEVENT
END:VCALENDAR