BEGIN:VCALENDAR
VERSION:2.0
PRODID:-//Mari Kodama - ECPv6.14.2//NONSGML v1.0//EN
CALSCALE:GREGORIAN
METHOD:PUBLISH
X-WR-CALNAME:Mari Kodama
X-ORIGINAL-URL:https://www.marikodama.com
X-WR-CALDESC:Events for Mari Kodama
REFRESH-INTERVAL;VALUE=DURATION:PT1H
X-Robots-Tag:noindex
X-PUBLISHED-TTL:PT1H
BEGIN:VTIMEZONE
TZID:UTC
BEGIN:STANDARD
TZOFFSETFROM:+0000
TZOFFSETTO:+0000
TZNAME:UTC
DTSTART:20210101T000000
END:STANDARD
END:VTIMEZONE
BEGIN:VEVENT
DTSTART;TZID=UTC:20210903T200000
DTEND;TZID=UTC:20210903T213000
DTSTAMP:20260424T074633
CREATED:20210711T152447Z
LAST-MODIFIED:20210711T152447Z
UID:1719-1630699200-1630704600@www.marikodama.com
SUMMARY:2nd Academy Concert with Alfred Brendel
DESCRIPTION:Programme\nGreetings and Introduction with Alfred Brendel \nBéla Bartók\nMusik für Saiteninstrumente\, Schlagzeug und Celesta \nWolfgang Amadeus Mozart\nKlavierkonzert Nr. 7 für drei Klaviere und Orchester F-Dur KV 242 \nArtists\nKent Nagano – conductor\nMari Kodama – piano\nPaul Lewis – piano\nTill Fellner- piano\nPhilharmonisches Staatsorchester Hamburg \nThe roots of Bartók‘s compositional thinking\, to which rhythm is immanent\, go back to his childhood: a little drum was his first favourite toy. This tendency to search for the percussive power of instruments remained a constant throughout his life and defined his artistic path\, as his “Music for String Instruments\, Percussion and Celesta” proves.\nNot only did Alfred Brendel have a highly successful pianistic career\, but his students have also become prominent performers: Mari Kodama\, Till Fellner and Paul Lewis will enchant listeners on this evening in a concerto with an extraordinary cast: Mozart’s “Lodron” Piano Concerto for three pianos.
URL:https://www.marikodama.com/performance/2nd-academy-concert-with-alfred-brendel/
LOCATION:Curio-Haus\, Rothenbaumchaussee 11\, Hamburg\, 20148\, Germany
CATEGORIES:Concert
END:VEVENT
END:VCALENDAR