BEGIN:VCALENDAR
VERSION:2.0
PRODID:-//Mari Kodama - ECPv6.14.2//NONSGML v1.0//EN
CALSCALE:GREGORIAN
METHOD:PUBLISH
X-WR-CALNAME:Mari Kodama
X-ORIGINAL-URL:https://www.marikodama.com
X-WR-CALDESC:Events for Mari Kodama
REFRESH-INTERVAL;VALUE=DURATION:PT1H
X-Robots-Tag:noindex
X-PUBLISHED-TTL:PT1H
BEGIN:VTIMEZONE
TZID:UTC
BEGIN:STANDARD
TZOFFSETFROM:+0000
TZOFFSETTO:+0000
TZNAME:UTC
DTSTART:20210101T000000
END:STANDARD
END:VTIMEZONE
BEGIN:VEVENT
DTSTART;TZID=UTC:20210527T183000
DTEND;TZID=UTC:20210527T200000
DTSTAMP:20260424T104310
CREATED:20210430T212900Z
LAST-MODIFIED:20210430T213113Z
UID:1683-1622140200-1622145600@www.marikodama.com
SUMMARY:Tokyo Symphony Orchestra Special Concert
DESCRIPTION:Tokyo Symphony Orchestra\, Jonathan Knott – conductor ; Mari Kodama – piano ; Gleb Nikitin – violin (concertmaster Tokyo Symphony Orchestra) \n 
URL:https://www.marikodama.com/performance/tokyo-symphony-orchestra-special-concert/
LOCATION:Muza Kawasaki Symphony Hall\, 1310 Omiya-cho Saiwai-ku\,\, Kawasaki-City\, 212-8557\, Japan
CATEGORIES:Concert
END:VEVENT
END:VCALENDAR